BEGIN:VCALENDAR
VERSION:2.0
PRODID:-//Whitefield Bowling Club - ECPv6.15.13//NONSGML v1.0//EN
CALSCALE:GREGORIAN
METHOD:PUBLISH
X-WR-CALNAME:Whitefield Bowling Club
X-ORIGINAL-URL:https://whitefieldbowlingclub.co.uk
X-WR-CALDESC:Events for Whitefield Bowling Club
REFRESH-INTERVAL;VALUE=DURATION:PT1H
X-Robots-Tag:noindex
X-PUBLISHED-TTL:PT1H
BEGIN:VTIMEZONE
TZID:UTC
BEGIN:STANDARD
TZOFFSETFROM:+0000
TZOFFSETTO:+0000
TZNAME:UTC
DTSTART:20240101T000000
END:STANDARD
END:VTIMEZONE
BEGIN:VEVENT
DTSTART;TZID=UTC:20250302T160000
DTEND;TZID=UTC:20250302T190000
DTSTAMP:20260420T112323
CREATED:20250121T191430Z
LAST-MODIFIED:20250217T180235Z
UID:2915-1740931200-1740942000@whitefieldbowlingclub.co.uk
SUMMARY:Sunday Quiz
DESCRIPTION:Ernie’s Sunday afternoon quiz \n 
URL:https://whitefieldbowlingclub.co.uk/event/sunday-quiz/
LOCATION:Manchester
END:VEVENT
BEGIN:VEVENT
DTSTART;TZID=UTC:20250322T080000
DTEND;TZID=UTC:20250322T190000
DTSTAMP:20260420T112323
CREATED:20250311T103819Z
LAST-MODIFIED:20250311T103819Z
UID:2951-1742630400-1742670000@whitefieldbowlingclub.co.uk
SUMMARY:Green Reopening
DESCRIPTION:The green will be open to all members from Saturday 22nd March.
URL:https://whitefieldbowlingclub.co.uk/event/green-reopening/
LOCATION:Whitefield Bowling Club\, 22 Church Lane\, Whitefield\, Manchester\, M45 7NF\, United Kingdom
END:VEVENT
BEGIN:VEVENT
DTSTART;TZID=UTC:20250322T140000
DTEND;TZID=UTC:20250322T150000
DTSTAMP:20260420T112323
CREATED:20250311T113823Z
LAST-MODIFIED:20250311T113915Z
UID:2968-1742652000-1742655600@whitefieldbowlingclub.co.uk
SUMMARY:Management Committee Meeting
DESCRIPTION:For any members interested in joining the new WBC management committee\, the first meeting will be held at the club from 2pm on Saturday 22nd March. Below is a list of roles and responsibilities we are looking for help with. \n\nGreen work and rotas\nMachinery and maintenance\nTreatments and schedules\nProcurement (fertilisers etc)\nSurrounds and landscape\nTeams\, captains and league calendars\nCompetitions\, events and community programmes\nStock procurement and sales – achieving best value for WBC\nOpenings and diary management\nOrganising Club events and sales initiatives\nMembership & Assessment interviews\nCommunity awards and distribution of profit to local good charities and groups\nFinance and audit with year-end summary/AGM\nGrants and Income\nInsurance\nHealth and Safety\nUtilities and Procurement contracts\nPartnership and relations\nCommunity support
URL:https://whitefieldbowlingclub.co.uk/event/management-committee-meeting/
LOCATION:Whitefield Bowling Club\, 22 Church Lane\, Whitefield\, Manchester\, M45 7NF\, United Kingdom
END:VEVENT
END:VCALENDAR